BEGIN:VCALENDAR
VERSION:2.0
PRODID:icalendar-ruby
CALSCALE:GREGORIAN
BEGIN:VEVENT
DTSTAMP:20210119T192658Z
UID:85a8b971-05c8-4f5e-82f3-935ffd604e4a
DTSTART;VALUE=DATE:20201212
DESCRIPTION:Property ID# 495840\, Time: 1:00PM
SUMMARY:Auction for 
END:VEVENT
END:VCALENDAR
